BEGIN:VCALENDAR
VERSION:2.0
PRODID:-//Flávio Paiva - ECPv6.2.9//NONSGML v1.0//EN
CALSCALE:GREGORIAN
METHOD:PUBLISH
X-WR-CALNAME:Flávio Paiva
X-ORIGINAL-URL:https://www.flaviopaiva.com.br
X-WR-CALDESC:Eventos para Flávio Paiva
REFRESH-INTERVAL;VALUE=DURATION:PT1H
X-Robots-Tag:noindex
X-PUBLISHED-TTL:PT1H
BEGIN:VTIMEZONE
TZID:America/Fortaleza
BEGIN:STANDARD
TZOFFSETFROM:-0300
TZOFFSETTO:-0300
TZNAME:-03
DTSTART:20150101T000000
END:STANDARD
END:VTIMEZONE
BEGIN:VEVENT
DTSTART;TZID=America/Fortaleza:20230826T190000
DTEND;TZID=America/Fortaleza:20230826T210000
DTSTAMP:20260421T195540
CREATED:20230812T134334Z
LAST-MODIFIED:20230812T135024Z
UID:10417-1693076400-1693083600@www.flaviopaiva.com.br
SUMMARY:15º Prêmio Flávio Paiva | 2023
DESCRIPTION:15º PRÊMIO LITERÁRIO FLÁVIO PAIVA | 2023\nData: 26 de agosto de 2023 (sábado)\nHora: 19h00\nLocal: Largo da Estação Leitura | Independência – CE\nParticipação especial: Edvaldo Santana (cantor e compositor) \n——– \nEDUCAÇÃO PARTICIPATIVA. Há 15 anos o exercício reflexivo e da manifestação literária da juventude vem sendo estimulado em Independência (CE)\, o município onde nasci\, a partir de temas de impacto no que\, consciente ou inconscientemente\, define o lugar onde vivem. \nEm resposta a provocações feitas anualmente pela História Viva\, entidade criada e mantida por professoras e professores locais\, centenas de estudantes\, educadoras\, educadores\, familiares\, amigas e amigas agitam as ideias e as relações em uma notável prática mobilizadora. \n2023 é um ano especial\, tanto pela comemoração dos 15 anos desse Prêmio\, como pela oportunidade de discussão ampliada dos 200 anos da participação das gentes dos Inhamuns na Batalha do Jenipapo/PI e no Cerco a Cachias/MA (sim\, à época ainda não era Caxias)\, dois eventos históricos determinantes para a unidade do território brasileiro. \nDesta vez\, o pensamento crítico está sendo aguçado\, tendo por base exemplos dos antepassados como inspirações para o devir. Afinal\, depois da vitória\, não terá sido à toa que aquelas pessoas lutaram tanto para mudar o nome de Pelo Sinal para Independência. \nComo gesto de reforço à busca por outras referências de valorização social\, a História Viva faz juntamente com o Prêmio Literário Flávio Paiva um tributo anual a pessoas com destacada atuação na vida do município e que nem sempre são reconhecidas publicamente. Essas pessoas são agraciadas com o Troféu Saci de Personalidade do Ano. \n 
URL:https://www.flaviopaiva.com.br/agenda/15o-premio-flavio-paiva-2023/
ATTACH;FMTTYPE=image/jpeg:https://www.flaviopaiva.com.br/wp-content/uploads/2023/08/Cartaz-Prêmio-2023_web.jpg
END:VEVENT
BEGIN:VEVENT
DTSTART;TZID=America/Fortaleza:20221016T100000
DTEND;TZID=America/Fortaleza:20221016T120000
DTSTAMP:20260421T195540
CREATED:20221010T142057Z
LAST-MODIFIED:20221010T142935Z
UID:9984-1665914400-1665921600@www.flaviopaiva.com.br
SUMMARY:Bate-papo sobre o livro "Que noite\, Torito!" no CCBNB
DESCRIPTION:TORITO NO CCBNB. Todo mundo convidado para o bate-papo entre Flávio Paiva e a comunicóloga Vanessa Queiroga\, domingo\, 16/10\, às 10:00\, no auditório do Centro Cultural Banco do Nordeste. Neste MÊS DAS CRIANÇAS\, o autor falará sobre a sua obra que une literatura e música\, tendo como referência o livro/álbum INFANTIL “Que noite\, Torito!” (Telos Editora). Após a conversa haverá sessão de autógrafos. \n 
URL:https://www.flaviopaiva.com.br/agenda/bate-papo-sobre-o-livro-que-noite-torito-no-ccbnb/
ATTACH;FMTTYPE=image/jpeg:https://www.flaviopaiva.com.br/wp-content/uploads/2022/10/torito-ccbnb-2022.jpg
END:VEVENT
BEGIN:VEVENT
DTSTART;TZID=America/Fortaleza:20220929T180000
DTEND;TZID=America/Fortaleza:20220929T200000
DTSTAMP:20260421T195540
CREATED:20220929T113823Z
LAST-MODIFIED:20221010T142942Z
UID:9955-1664474400-1664481600@www.flaviopaiva.com.br
SUMMARY:Lançamento do livro "Que noite\, Torito!" na Feira da Palavra da Escola Espaço Vida
DESCRIPTION:PARQUELÂNDIA! Vai ter lançamento do livro “Que noite\, Torito!” (Telos Editora) na FEIRA DA PALAVRA da Escola Espaço Vida. As portas estarão abertas para quem quiser chegar com a criança que ama. Vamos? \n 
URL:https://www.flaviopaiva.com.br/agenda/lancamento-do-livro-que-noite-torito-na-feira-da-palavra-da-escola-espaco-vida/
ATTACH;FMTTYPE=image/jpeg:https://www.flaviopaiva.com.br/wp-content/uploads/2022/10/escola-espaco-vida-torito-29set2022.jpg
END:VEVENT
BEGIN:VEVENT
DTSTART;TZID=America/Fortaleza:20220926T200000
DTEND;TZID=America/Fortaleza:20220926T210000
DTSTAMP:20260421T195540
CREATED:20220926T113448Z
LAST-MODIFIED:20221010T143006Z
UID:9951-1664222400-1664226000@www.flaviopaiva.com.br
SUMMARY:Programa PAPEART'E
DESCRIPTION:Flávio Paiva estará ao vivo com a apresentadora Sandra Santos falando da sua produção autoral no programa da segunda-feira\, dia 26/9\, às 20:00. Que tal conferir? É só seguir o link: \nhttps://www.youtube.com/watch?v=RjOLsz5uRes \nPrograma PapeArt’e\nApresentação: Sandra Santos\nConvidado: Flávio Paiva\nProdução e realização: Andrew Davis\nFotógrafo Luiz Felipe\nRicardo Praca – Techmit
URL:https://www.flaviopaiva.com.br/agenda/papearte/
ATTACH;FMTTYPE=image/jpeg:https://www.flaviopaiva.com.br/wp-content/uploads/2022/10/programa-papearte-sandra-santos-26set2022.jpg
END:VEVENT
BEGIN:VEVENT
DTSTART;TZID=America/Fortaleza:20190615T103000
DTEND;TZID=America/Fortaleza:20190615T140000
DTSTAMP:20260421T195540
CREATED:20190606T143302Z
LAST-MODIFIED:20190606T143319Z
UID:7687-1560594600-1560607200@www.flaviopaiva.com.br
SUMMARY:Café da Manhã e Lançamento do livro CÓDIGO ABERTO
DESCRIPTION:  \nLANÇAMENTO!!! \nFlávio Paiva lança seu novo livro\, CÓDIGO ABERTO – Autobiografia Colaborativa (Cortez Editora)\,  com respostas a provocações feitas por artistas\, intelectuais\, filósofos\, sociólogos\, psicólogos\, psicanalistas\, jornalistas\, cineastas\, poetas\, empresários\, religiosos\, brincantes\, educadores\, escritores e fotógrafos. \nNa ocasião\, Andreia Dias\, Paulo Lepetit (violão)\, Vange Milliet e Marcelo Pretto farão a cancão-tema. \n\n\nData: 15 de junho de 2019 (sábado)\nHora: 10:30\nLocal: Espaço Cortez – Rua Bartira\, 317\, Perdizes\, São Paulo \n  \nQuem são os autores das 60 perguntas geradoras do Código Aberto: \nAderson Medeiros\, Adriana Calcanhotto\, Adriano Espínola\, Albanisa Dummar Pontes\, Alemberg Quindins\, Alice Ruiz\, Amarílio Macêdo\, Ana Lúcia Villela\, Ana Olmos\, Antônio Nóbrega\, Bené Fonteles\, Bia Bedran\, Calé Alencar\, Carlos Velázquez\, Chico César\, Clóvis Erly Rodrigues\, Diatahy Bezerra de Menezes\, Dim Brinquedim\, Dora Andrade\, Dulce Seabra\, Edson Natale\, Eliana Cardoso\, Ermengarda Santana\, Falcão\, Fanta Konatê\, Fátima Severiano\, Félix Viana\, Floriana Bertini\, Geraldo Jesuíno\, Gilmar de Carvalho\, Isabel Lustosa\, Jackson Araújo\, João de Paula Monteiro\, Jorge Cartaxo\, José Eduardo Romão\, José Ernesto Bologna\, José Xavier Cortez\, Judicael Sudário de Pinho\, Luciana Dummar\, Luis Angel Hernandez\, Márcia Rolon\, Marcos Vieira\, Maria Amélia Pereira (PEO)\, Maria Cristina Fernandes\, Marta Brandão\, Maurício Kubrusly\, Mino\, e Nirez.
URL:https://www.flaviopaiva.com.br/agenda/cafe-da-manha-e-lancamento-do-livro-codigo-aberto/
END:VEVENT
BEGIN:VEVENT
DTSTART;TZID=America/Fortaleza:20171126T163000
DTEND;TZID=America/Fortaleza:20171126T200000
DTSTAMP:20260421T195540
CREATED:20171116T000604Z
LAST-MODIFIED:20171116T000645Z
UID:5862-1511713800-1511726400@www.flaviopaiva.com.br
SUMMARY:Afeto na Livraria Cultura
DESCRIPTION:PALESTRA – Poesia e Música \n“Construindo Vínculos Afetivos na Gestação e na Primeira Infância”\ncom Flávio Paiva \n+ \nLançamento do livro-cd AFETO\nData: 26 de novembro de 2017\nHora: 16:30\nLocal: Livraria Cultura – Fortaleza (Av. Dom Luís\, 1010 – Esquina com a Av. Virgílio Távora) \n  \nVER CONVITE
URL:https://www.flaviopaiva.com.br/agenda/afeto-na-livraria-cultura/
LOCATION:Livraria Cultura Fortaleza\, Av. Dom Luís\, 1010\, Fortaleza\, Brasil
END:VEVENT
BEGIN:VEVENT
DTSTART;TZID=America/Fortaleza:20171028T160000
DTEND;TZID=America/Fortaleza:20171028T200000
DTSTAMP:20260421T195540
CREATED:20171116T002016Z
LAST-MODIFIED:20171116T002016Z
UID:5870-1509206400-1509220800@www.flaviopaiva.com.br
SUMMARY:AFETO no Cineteatro São Luiz - Fortaleza
DESCRIPTION:LANÇAMENTO do novo livro-cd AFETO\, de Flávio Paiva\, no Cineteatro São Luiz\, em Fortaleza\, como parte do encerramento do VIII Salão Literário da Casa de Criança Escola-Creche\, inspirado na obra\, com piano de Eugênio Matos e ilustrações de Janaína Tokitaka (Cortez Editora). Música\, poesia e teatro celebram a infância em duas sessões dessa aconchegante festa de amorosidade! \nData: 28 de outubro de 2017 (domingo)\nHora: 16:00\nLocal: Livraria Cultura Fortaleza – Av. Dom Luís\, 1010 (Esquina com a Av. Virgílio Távora)
URL:https://www.flaviopaiva.com.br/agenda/afeto-no-cineteatro-sao-luiz-fortaleza/
END:VEVENT
BEGIN:VEVENT
DTSTART;TZID=America/Fortaleza:20170930T101500
DTEND;TZID=America/Fortaleza:20170930T120000
DTSTAMP:20260421T195540
CREATED:20170918T194048Z
LAST-MODIFIED:20170918T194048Z
UID:4669-1506766500-1506772800@www.flaviopaiva.com.br
SUMMARY:Flávio Paiva e INVOCADO na Fli7
DESCRIPTION:INVOCADO NA FLI7 \nA Festa Literária do Centro Universitário 7 de Setembro\, de Fortaleza\, põe em debate o tema “Literatura como arte que transforma a realidade”\, tendo como homenageado o poeta Patativa do Assaré (1909-2002). No encerramento do evento\, Flávio Paiva fala sobre “Contar com música – Patativa e outros invocados”\, conferência seguida de apresentação de pocket show da Banda Dona Zefinha: invocado que só!!! \nAberto ao público \nData: 30/09/2017\nHora: 10h15\nLocal: Teatro Nila Soárez / UNI7 – Av. Almirante Maximiniano da Fonseca\, 1395 – Eng. Luciano Cavalcante\, Fortaleza – CE \nVeja programação completa: http://www.fli7.com.br/ \n 
URL:https://www.flaviopaiva.com.br/agenda/flavio-paiva-e-invocado-na-fli7/
LOCATION:Uni7\, Av. Almirante Maximiniano da Fonseca\, 1395\, Fortaleza\, Ceará\, Brasil
ATTACH;FMTTYPE=image/jpeg:https://www.flaviopaiva.com.br/wp-content/uploads/2017/09/fli7_invocado_destaque-1.jpg
END:VEVENT
BEGIN:VEVENT
DTSTART;TZID=America/Fortaleza:20170909T200000
DTEND;TZID=America/Fortaleza:20170909T220000
DTSTAMP:20260421T195540
CREATED:20170904T203739Z
LAST-MODIFIED:20170904T203739Z
UID:4322-1504987200-1504994400@www.flaviopaiva.com.br
SUMMARY:INVOCADO no 24º Festival de Teatro Nordestino de Guaramiranga
DESCRIPTION:O espetáculo INVOCADO QUE SÓ sobe a serra de Guaramiranga e realiza apresentação no 24º Festival de Teatro Nordestino de Guaramiranga\, dessa vez com a participação especial do Mestre da Cultura Vicente Chagas junto com a Banda Dona Zefinha. \nData: 09/09/2017\nHora: 20 horas\nLocal: Praça do Teatro Municipal de Guaramiranga – CE \nLIVRE\nGRATUITO
URL:https://www.flaviopaiva.com.br/agenda/invocado-no-24o-festival-de-teatro-nordestino-de-guaramiranga/
ATTACH;FMTTYPE=image/jpeg:https://www.flaviopaiva.com.br/wp-content/uploads/2017/09/invocado_festival-teatro-guaramiranga_04set2017-1.jpg
END:VEVENT
BEGIN:VEVENT
DTSTART;TZID=America/Fortaleza:20170909T200000
DTEND;TZID=America/Fortaleza:20170909T220000
DTSTAMP:20260421T195540
CREATED:20170904T145143Z
LAST-MODIFIED:20170904T145939Z
UID:4295-1504987200-1504994400@www.flaviopaiva.com.br
SUMMARY:INVOCADO NO FESTIVAL DE TEATRO
DESCRIPTION:Dona Zefinha apresenta “Invocado que só” na 24ª Edição do Festival Nordestino de Teatro de Guaramirnga. O show compõe a ilustração musical do Livro CD “Invocado que só – um jeito brasileiro de ser musical” do escritor\, jornalista e parceiro Flávio Paiva e a direção musical de André Magalhães.\nSábado às 20hs na Praça do Teatro Municipal.\nVamos subir a serra?
URL:https://www.flaviopaiva.com.br/agenda/invocado-no-festival-de-teatro/
LOCATION:Guaramiranga\, Ceará
ATTACH;FMTTYPE=image/jpeg:https://www.flaviopaiva.com.br/wp-content/uploads/2017/09/invocado_festival-teatro-guaramiranga_04set2017.jpg
END:VEVENT
BEGIN:VEVENT
DTSTART;TZID=America/Fortaleza:20170812T183000
DTEND;TZID=America/Fortaleza:20170812T220000
DTSTAMP:20260421T195540
CREATED:20170904T134953Z
LAST-MODIFIED:20170904T134953Z
UID:4290-1502562600-1502575200@www.flaviopaiva.com.br
SUMMARY:9º Prêmio Literário Flávio Paiva - 2017
DESCRIPTION:Flávio Paiva participa da festa de premiação do 9º Prêmio Literário Flávio Paiva – 2017\, na cidade de Independência\, onde nasceu\, numa grande festa que contará com o show INVOCADO QUE SÓ\, da Banda Dona Zefinha\, e participações especiais de Júlio Jamayka e do Mestre Zé Augusto\, da Cachoeira do Fogo. \nData: 12 de agosto de 2017 (sábado)\nHora: 18:30\nLocal: Ong História Viva – Antiga estação de trem do Batalhão\nIndependência (CE). \n 
URL:https://www.flaviopaiva.com.br/agenda/9o-premio-literario-flavio-paiva-2017/
LOCATION:Independência\, Ceará
ATTACH;FMTTYPE=image/png:https://www.flaviopaiva.com.br/wp-content/uploads/2017/09/Cartaz-Premio-Flavio-Paiva-2017.png
END:VEVENT
BEGIN:VEVENT
DTSTART;TZID=America/Fortaleza:20170730T200000
DTEND;TZID=America/Fortaleza:20170730T220000
DTSTAMP:20260421T195540
CREATED:20170904T201859Z
LAST-MODIFIED:20170904T201859Z
UID:4307-1501444800-1501452000@www.flaviopaiva.com.br
SUMMARY:Antena Groove
DESCRIPTION:O projeto Antena Groove convida Flávio Paiva e Ricardo Lisbôa para conversa musical no Café Couture (Rua dos Tabajaras\, 554 – Praia de Iracema).
URL:https://www.flaviopaiva.com.br/agenda/antena-groove/
ATTACH;FMTTYPE=image/jpeg:https://www.flaviopaiva.com.br/wp-content/uploads/2017/09/antena-groove_cafe-couture_30jun2017.jpg
END:VEVENT
BEGIN:VEVENT
DTSTART;VALUE=DATE:20170714
DTEND;VALUE=DATE:20170715
DTSTAMP:20260421T195540
CREATED:20170712T173831Z
LAST-MODIFIED:20170712T173831Z
UID:3475-1499990400-1500076799@www.flaviopaiva.com.br
SUMMARY:INVOCADO em Itapipoca 2
DESCRIPTION:16:00 – Fala Ilustrada\, com Flávio Paiva e Orlângelo Leal\, para estudantes do Ensino Médio da Escola Anastácio Braga\n20:00 – Show com a inventiva Banda Dona Zefinha no Auditório do IFCE \nConvidado: Álcio Barroso
URL:https://www.flaviopaiva.com.br/agenda/invocado-em-itapipoca-2/
LOCATION:Itapipoca\, Itapipoca\, Brasil
ATTACH;FMTTYPE=image/jpeg:https://www.flaviopaiva.com.br/wp-content/uploads/2017/07/evento-flavio.jpg
END:VEVENT
BEGIN:VEVENT
DTSTART;TZID=America/Fortaleza:20170709T180000
DTEND;TZID=America/Fortaleza:20170709T210000
DTSTAMP:20260421T195540
CREATED:20170904T203236Z
LAST-MODIFIED:20170904T203236Z
UID:4319-1499623200-1499634000@www.flaviopaiva.com.br
SUMMARY:INVOCADO com Dona Zefinha e Evaldo Gouveia
DESCRIPTION:Dona Zefinha e Evaldo Gouveia estão juntos no show INVOCADO QUE SÓ. Depois desse encontro\, NADA SERÁ COMO DEPOIS! \nData: 09/07/2017\nHora: 18h\nLocal: Cineteatro São Luiz \nEntrada: R$ 20 inteira / R$ 10 meia
URL:https://www.flaviopaiva.com.br/agenda/invocado-com-dona-zefinha-e-evaldo-gouveia/
ATTACH;FMTTYPE=image/jpeg:https://www.flaviopaiva.com.br/wp-content/uploads/2017/09/invocado_evaldogouveia_cinetratrosaoluiz_2017.jpg
END:VEVENT
BEGIN:VEVENT
DTSTART;TZID=America/Fortaleza:20170523T193000
DTEND;TZID=America/Fortaleza:20170523T220000
DTSTAMP:20260421T195540
CREATED:20170919T024632Z
LAST-MODIFIED:20170919T202524Z
UID:4700-1495567800-1495576800@www.flaviopaiva.com.br
SUMMARY:Show de Lançamento do LIVRO-CD BULBRAX
DESCRIPTION:Flávio Paiva lança seu novo livro-cd BULBRAX\, Sociomorfologia Cultural de Fortaleza (Armazém da Cultura)\, com show que contará com a cantora ILYA interpretando as ilustrações musicais que compõem o livro-cd\, além de participação especial de Daniel Groove\, Orlângelo Leal e Nonato Lima. \nData: 23 de maio de 2017\nHora: 19:30\nLocal: Teatro Ceará Show
URL:https://www.flaviopaiva.com.br/agenda/show-de-lancamento-do-livro-cd-bulbrax/
ATTACH;FMTTYPE=image/jpeg:https://www.flaviopaiva.com.br/wp-content/uploads/2017/09/bulbrax-lancamento.jpg
END:VEVENT
BEGIN:VEVENT
DTSTART;TZID=America/Fortaleza:20170422T210000
DTEND;TZID=America/Fortaleza:20170422T223000
DTSTAMP:20260421T195540
CREATED:20170904T202937Z
LAST-MODIFIED:20170919T203135Z
UID:4316-1492894800-1492900200@www.flaviopaiva.com.br
SUMMARY:INVOCADO na Bienal do Livro
DESCRIPTION:E vai ter invocado na XII Bienal do Livro do Ceará. Anote\, para não esquecer: SHOW INVOCADO QUE SÓ\, com a Banda Dona Zefinha. \nData: 22/04/2017\nHora: 21h\nLocal: Bienal Internacional do Livro do Ceará – Centro de Eventos – Auditório Principal / Térreo.
URL:https://www.flaviopaiva.com.br/agenda/invocado-na-bienal-do-livro/
ATTACH;FMTTYPE=image/jpeg:https://www.flaviopaiva.com.br/wp-content/uploads/2017/09/invocado_bienal2017.jpg
END:VEVENT
BEGIN:VEVENT
DTSTART;VALUE=DATE:20170418
DTEND;VALUE=DATE:20170419
DTSTAMP:20260421T195540
CREATED:20170904T202409Z
LAST-MODIFIED:20170904T202409Z
UID:4311-1492473600-1492559999@www.flaviopaiva.com.br
SUMMARY:A Casa do Meu Melhor Amigo do Santa Cecília
DESCRIPTION:Flávio Paiva conversa com estudantee do 6º Ano do Colégio Santa Cecília sobre seu livro-CD “A Casa do Meu Melhor Amigo”. \nData: 18/04\nLocal: Colégio Santa Cecília
URL:https://www.flaviopaiva.com.br/agenda/casa-do-meu-melhor-amigo-do-santa-cecilia/
ATTACH;FMTTYPE=image/jpeg:https://www.flaviopaiva.com.br/wp-content/uploads/2017/05/a-casa-do-meu-melhor-amigo-08.jpg
END:VEVENT
BEGIN:VEVENT
DTSTART;TZID=America/Fortaleza:20170411T190000
DTEND;TZID=America/Fortaleza:20170411T203000
DTSTAMP:20260421T195540
CREATED:20170904T201614Z
LAST-MODIFIED:20170904T201614Z
UID:4303-1491937200-1491942600@www.flaviopaiva.com.br
SUMMARY:Bate-papo sobre Fortaleza
DESCRIPTION:Flávio Paiva conversa com alunos do 6º Ano do Colégio Cientista\, do Conjunto Polar – Vila Velha sobre seu livro “Fortaleza de dunas andantes a cidade banhada de sol” (Cortez Editora)\, por ocasião do aniversário da cidade. \n  \n 
URL:https://www.flaviopaiva.com.br/agenda/bate-papo-sobre-fortaleza/
LOCATION:Fortaleza\, Ceará
ATTACH;FMTTYPE=image/jpeg:https://www.flaviopaiva.com.br/wp-content/uploads/2017/09/colegiocientista.jpg
END:VEVENT
BEGIN:VEVENT
DTSTART;VALUE=DATE:20170317
DTEND;VALUE=DATE:20170318
DTSTAMP:20260421T195540
CREATED:20170712T164417Z
LAST-MODIFIED:20170904T124107Z
UID:3462-1489708800-1489795199@www.flaviopaiva.com.br
SUMMARY:INVOCADO em Itapipoca
DESCRIPTION:16:00 – Fala Ilustrada\, com Flávio Paiva e Orlângelo Leal\, para estudantes do Ensino Médio da Escola Anastácio Braga\n20:00 – Show com a inventiva Banda Dona Zefinha no Auditório do IFCE \nConvidado: Álcio Barroso
URL:https://www.flaviopaiva.com.br/agenda/invocado-em-itapipoca/
LOCATION:Itapipoca\, Itapipoca\, Brasil
ATTACH;FMTTYPE=image/jpeg:https://www.flaviopaiva.com.br/wp-content/uploads/2015/08/invocado_guiauol.jpg
END:VEVENT
BEGIN:VEVENT
DTSTART;TZID=America/Fortaleza:20170227T080000
DTEND;TZID=America/Fortaleza:20170227T170000
DTSTAMP:20260421T195540
CREATED:20170904T132812Z
LAST-MODIFIED:20170904T202532Z
UID:4287-1488182400-1488214800@www.flaviopaiva.com.br
SUMMARY:INVOCADO na Serra
DESCRIPTION:Flávio Paiva e Orlângelo Leal (Dona Zefinha) farão a Fala Ilustrada do livro-CD “Invocado – um jeito brasileiro de ser musical” (Armazém da Cultura)\, em ação itinerante do “Book Truck” do Projeto Ceará Leitor\, na cidade de Guaramiranga. \nData: 27/02/2017 (segunda-feira)\nHora: 17h00\nLocal: Tenda do Sebrae. Rua Joaquim Alves Nogueira s/n (Rua Principal) – Guaramiranga-CE.
URL:https://www.flaviopaiva.com.br/agenda/invocado-na-serra/
ATTACH;FMTTYPE=image/jpeg:https://www.flaviopaiva.com.br/wp-content/uploads/2017/09/ceara-leitor-em-guaramiranfa.jpg
END:VEVENT
BEGIN:VEVENT
DTSTART;TZID=America/Fortaleza:20160925T180000
DTEND;TZID=America/Fortaleza:20160925T210000
DTSTAMP:20260421T195540
CREATED:20170918T195301Z
LAST-MODIFIED:20170918T195301Z
UID:4675-1474826400-1474837200@www.flaviopaiva.com.br
SUMMARY:Troféu da Música Independente
DESCRIPTION:Flávio Paiva será homenageado na festa de 15 anos da Feira da Música Independente\, numa realização da Associação dos Produtores de Cultura do Ceará – PRODISC. \nData: 25/09/2016 (domingo)\nHora: 18h00\nLocal: Cineteatro São Luiz (Praça do Ferreira\, Fortaleza – CE)
URL:https://www.flaviopaiva.com.br/agenda/trofeu-da-musica-independente/
LOCATION:Cinetratro São Luiz
END:VEVENT
BEGIN:VEVENT
DTSTART;TZID=America/Fortaleza:20160514T093000
DTEND;TZID=America/Fortaleza:20160514T120000
DTSTAMP:20260421T195540
CREATED:20170918T200140Z
LAST-MODIFIED:20170918T200140Z
UID:4678-1463218200-1463227200@www.flaviopaiva.com.br
SUMMARY:Diálogos Cultura Infância - CCBNB
DESCRIPTION:O CCBNB-Fortaleza convida para a construção do Programa Diálogos Cultura Infância\, espaço interdisciplinar de reflexão e de troca de saberes sobre produções e expressões culturais voltadas para o público infantil. Neste primeiro encontro\, o tema “Conceito de Cultura\, Infância e Consumo” será debatido pelo jornalista e escritor Flávio Paiva e pela atriz e arte-educadora Edneia Quinto. \nData: 14/05/2016 (sábado)\nHora: 9h30\nLocal: Centro Cultural Banco do Nordeste (R. Floriano Peixoto\, 941 – Centro\, Fortaleza – CE)
URL:https://www.flaviopaiva.com.br/agenda/dialogos-cultura-infancia-ccbnb/
LOCATION:Centro Cultural Banco do Nordeste\, R. Floriano Peixoto\, 941\, Fortaleza\, Ceará\, Brasil
END:VEVENT
BEGIN:VEVENT
DTSTART;TZID=America/Fortaleza:20160428T220000
DTEND;TZID=America/Fortaleza:20160428T230000
DTSTAMP:20260421T195540
CREATED:20170918T200408Z
LAST-MODIFIED:20170918T201131Z
UID:4681-1461880800-1461884400@www.flaviopaiva.com.br
SUMMARY:INVOCADO na Maloca
DESCRIPTION:A Banda Dona Zefinha integra a programação do festival Maloca Dragão 2016\, apresentando o show “Invocado que só”\, que conta o repertório musical do livro-cd “Invocado”(Armazém da Cultura)\, de Flávio Paiva. O show contará desta vez com a participação especial da cantora Karine Alexandrino\, com apresentação na banda Mundo Livre S/A na sequência. \nData: 28/04/2016 (quinta-feira)\nHora: 22:00\nLocal: Praça Verde do Centro Dragão do Mar de Arte e Cultura\, (Praia de Iracema) – Fortaleza/CE
URL:https://www.flaviopaiva.com.br/agenda/invocado-na-maloca/
LOCATION:Centro Dragão do Mar de Arte e Cultura
ATTACH;FMTTYPE=image/png:https://www.flaviopaiva.com.br/wp-content/uploads/2017/09/invocado_maloca2016.png
END:VEVENT
BEGIN:VEVENT
DTSTART;TZID=America/Fortaleza:20160414T183000
DTEND;TZID=America/Fortaleza:20160414T210000
DTSTAMP:20260421T195540
CREATED:20170918T202644Z
LAST-MODIFIED:20170918T202644Z
UID:4685-1460658600-1460667600@www.flaviopaiva.com.br
SUMMARY:Criança e Consumo no Tucarena
DESCRIPTION:Para quem se interessa pelos temas da infância: Criança e Consumo – 10 Anos de Transformação (Instituto Alana\, 2016). Artigos de Ana Olmos\, Adriana Cerqueira\, Arthur Meucci\, Clóvis de Barros Filho\, Flávio Paiva\, Frei Betto\, Giovana Longo\, Inês Vitorino\, João Lopes Guimarães Júnior\, José Augusto Taddei\, José Eduardo Romão\, Ladislau Dowbor\, Marcelo Sodré\, Maysa Toloni\, Nádia Rebouças\, Pedrinho Guareschi\, Solange Jobim\, Vidal Serrano e Yves de La Taille\, em abordagens de Sustentabilidade\, Ética\, Comunicação\, Saúde\, Cultura e Legislação. Organização de Laís Fontenele\, prefácio de Isabella Henriques\, entrevistas com Ana Lúcia Villela\, Marcos Nisti e Susan Linn. E mais: relatos históricos e depoimentos da equipe do Projeto Criança e Consumo\, está comemorando uma década de atuação vitoriosa no processo de preparação do Brasil para que vivamos em um país que respeite e honre a infância. \nLANÇAMENTO\nData: 14/04/2016\nHora: 18:30\nLocal: Tucarena/PUC\, São Paulo. \nVai ter apresentação da peça Homo Shoppiens\, do Grupo de Teatro Livre\, e debate com autores\, mediado pela jornalista Maria Cristina Poli \nInscrições pelo link:\nhttp://goo.gl/forms/p1Ap43W7fC
URL:https://www.flaviopaiva.com.br/agenda/crianca-e-consumo-no-tucarena/
END:VEVENT
BEGIN:VEVENT
DTSTART;TZID=America/Fortaleza:20160303T193000
DTEND;TZID=America/Fortaleza:20160303T213000
DTSTAMP:20260421T195540
CREATED:20170918T202848Z
LAST-MODIFIED:20170918T202848Z
UID:4688-1457033400-1457040600@www.flaviopaiva.com.br
SUMMARY:Palestra "Consumismo e impacto na formação dos jovens" com o escritor e jornalista Flávio Paiva
DESCRIPTION:O Santa Cecília convida os pais do 7º ao 9º ano do Ensino Fundamental para participarem da palestra sobre “Consumismo e impacto na formação dos jovens”\, com o jornalista e escritor Flávio Paiva. O objetivo é refletir e buscar caminhos possíveis para a formação dos jovens no sentido de torná-los mais conscientes\, felizes e éticos. \nData: 03/03/2016 (quinta-feira)\nHora: 19h30\nLocal: Auditório
URL:https://www.flaviopaiva.com.br/agenda/palestra-consumismo-e-impacto-na-formacao-dos-jovens-com-o-escritor-e-jornalista-flavio-paiva/
END:VEVENT
BEGIN:VEVENT
DTSTART;TZID=America/Fortaleza:20151211T190000
DTEND;TZID=America/Fortaleza:20151211T200000
DTSTAMP:20260421T195540
CREATED:20170918T203237Z
LAST-MODIFIED:20170918T203237Z
UID:4690-1449860400-1449864000@www.flaviopaiva.com.br
SUMMARY:Poesia e música com Flávio Paiva e Jord Guedes
DESCRIPTION:O Jornal O POVO\, através do programa Arte & Leitura\, realiza um bate-papo sobre poesia e música com a cantora e compositora Jord Guedes. Após a conversa\, que terá o jornalista Flávio Paiva como mediador\, Jord apresenta um pocket show com músicas do CD Traços\, lançado em setembro de 2015. \nData: 11/12/2015 (sexta-feira)\nHora: 19h (duração: 60min)\nLocal: Espaço O Povo de Cultura & Arte – Av. Aguanambi\, 282 – Joaquim Távora – Fortaleza/CE\nEntrada Franca + Estacionamento gratuito ao lado da sede do Jornal O POVO.
URL:https://www.flaviopaiva.com.br/agenda/poesia-e-musica-com-flavio-paiva-e-jord-guedes/
END:VEVENT
BEGIN:VEVENT
DTSTART;TZID=America/Fortaleza:20151008T193000
DTEND;TZID=America/Fortaleza:20151008T210000
DTSTAMP:20260421T195540
CREATED:20170918T203343Z
LAST-MODIFIED:20170918T203343Z
UID:4692-1444332600-1444338000@www.flaviopaiva.com.br
SUMMARY:Fala leminskiana na CAIXA
DESCRIPTION:Flávio Paiva faz palestra sobre o tema A Plenitude das Margens – Uma Poética do Fluxo Leminskiano\, dentro da programação da Exposição Múltiplo Leminski. \nData: 8 de outubro de 2015 (quinta-feira)\nHora: 19:30\nLocal: Caixa Cultural Fortaleza\nRua Pessoa Anta\, 287 – Praia de Iracema – Fortaleza (CE).
URL:https://www.flaviopaiva.com.br/agenda/fala-leminskiana-na-caixa/
END:VEVENT
BEGIN:VEVENT
DTSTART;TZID=America/Fortaleza:20151004T193000
DTEND;TZID=America/Fortaleza:20151004T210000
DTSTAMP:20260421T195540
CREATED:20170919T024759Z
LAST-MODIFIED:20170919T203231Z
UID:4702-1443987000-1443992400@www.flaviopaiva.com.br
SUMMARY:Invocado no Dragão: show de lançamento do livro-cd "Invocado"
DESCRIPTION:O Programa Lançamento de Discos\, do Edital Dragão do Mar 2015\, promove o lançamento-show Invocado no Dragão\, da Banda Dona Zefinha\, com a participação especial da cantora e dançarina Fanta Konatê\, da Guiné Conacri\, e do compositor e cantor Messias Holanda\, mito do forró orgânico cearense\, homenageado na ocasião pelo projeto Invocado\, dentro do propósito de curtir e pensar a música brasileira na atemporalidade dos seus intercâmbios afetivos e de diversidade inventiva. \nRecomendado para quem não tem medo de perder o juízo!!! \nData: 04 de outubro de 2015 (domingo)\nHora: 19:30 (retirada dos ingressos 30min antes do início do espetáculo)\nLocal: Anfiteatro do Centro Dragão do Mar de Arte e Cultura (Praia de Iracema)
URL:https://www.flaviopaiva.com.br/agenda/invocado-no-dragao-show-de-lancamento-do-livro-cd-invocado/
ATTACH;FMTTYPE=image/jpeg:https://www.flaviopaiva.com.br/wp-content/uploads/2015/09/invocado_fortaleza.jpg
END:VEVENT
BEGIN:VEVENT
DTSTART;TZID=America/Fortaleza:20150912T100000
DTEND;TZID=America/Fortaleza:20150912T120000
DTSTAMP:20260421T195540
CREATED:20170919T024845Z
LAST-MODIFIED:20170919T024845Z
UID:4704-1442052000-1442059200@www.flaviopaiva.com.br
SUMMARY:7 de Setembro 80 anos
DESCRIPTION:Flávio Paiva participa com a doutoranda em Linguística Aplicada\, Sâmia Araújo\, da mesa redonda Invocado: a Relação entre Música e Literatura”\, mediada pela professora Elba Soares\, no evento de comemoração dos 80 anos do grupo educacional 7 de Setembro (FA7 + Colégio 7 de Setembro)\, cuja programação tem como foco a Literatura e a Educação. \nData: 12 de setembro de 2015 (sábado)\nHora: 10:00\nLocal: FA7 – Av. Almirante Maximiniano da Fonseca\, 1395\, bairro Luciano Cavalcante.\nFortaleza (CE).
URL:https://www.flaviopaiva.com.br/agenda/7-de-setembro-80-anos/
END:VEVENT
BEGIN:VEVENT
DTSTART;TZID=America/Fortaleza:20150822T193000
DTEND;TZID=America/Fortaleza:20150822T213000
DTSTAMP:20260421T195540
CREATED:20170919T024933Z
LAST-MODIFIED:20170919T024933Z
UID:4706-1440271800-1440279000@www.flaviopaiva.com.br
SUMMARY:7º Prêmio de Literatura Flávio Paiva
DESCRIPTION:Flávio Paiva participa da entrega de prêmios aos destaques do 7º Prêmio de Literatura que leva o seu nome\, na cidade de Independência\, onde nasceu. \nData: 22 de agosto de 2015 (sábado)\nHora: 19:30\nLocal: Ong História Viva – Antiga estação de trem do Batalhão\nIndependência (CE).
URL:https://www.flaviopaiva.com.br/agenda/7o-premio-de-literatura-flavio-paiva/
END:VEVENT
END:VCALENDAR