BEGIN:VCALENDAR
VERSION:2.0
PRODID:-//Flávio Paiva - ECPv6.2.9//NONSGML v1.0//EN
CALSCALE:GREGORIAN
METHOD:PUBLISH
X-ORIGINAL-URL:https://www.flaviopaiva.com.br
X-WR-CALDESC:Eventos para Flávio Paiva
REFRESH-INTERVAL;VALUE=DURATION:PT1H
X-Robots-Tag:noindex
X-PUBLISHED-TTL:PT1H
BEGIN:VTIMEZONE
TZID:America/Fortaleza
BEGIN:STANDARD
TZOFFSETFROM:-0300
TZOFFSETTO:-0300
TZNAME:-03
DTSTART:20130101T000000
END:STANDARD
END:VTIMEZONE
BEGIN:VEVENT
DTSTART;TZID=America/Fortaleza:20150815T200000
DTEND;TZID=America/Fortaleza:20150815T220000
DTSTAMP:20260422T011242
CREATED:20170919T025021Z
LAST-MODIFIED:20170919T202943Z
UID:4708-1439668800-1439676000@www.flaviopaiva.com.br
SUMMARY:Invocado em Sampa: show de lançamento do livro-cd "Invocado"
DESCRIPTION:O Itaú Cultural realiza no próximo dia 15 de agosto\, às 20horas\, o show de lançamento do livro-CD “Invocado – um jeito brasileiro de ser musical” (Armazém da Cultura)\, do jornalista Flávio Paiva\, como parte integrante da programação Toca Brasil em consonância com a Ocupação Elomar que está acontecendo na Sala Itaú Cultural (de 18 de julho a 23 de agosto2015). O show conta com a interpretação da Banda Dona Zefinha e combina as linguagens da música\, do teatro\, da dança e da literatura para compartilhar um repertório divertido e reflexivo\, com a participação das cantoras Fanta Konatê (Guiné Conacri) e Suzana Salles (SP). \nEntrada Gratuita.\nRecomendado para quem não tem medo de perder o juízo!!! \nData: 15 de agosto de 2015 (sábado)\nHora: 20:00 (retirada dos ingressos 30min antes do início do espetáculo)\nLocal: Itaú Cultural (Av. Paulista\, 149 – São Paulo)
URL:https://www.flaviopaiva.com.br/agenda/invocado-em-sampa-show-de-lancamento-do-livro-cd-invocado/
ATTACH;FMTTYPE=image/jpeg:https://www.flaviopaiva.com.br/wp-content/uploads/2015/08/convite-invocado-em-sampa.jpg
END:VEVENT
BEGIN:VEVENT
DTSTART;TZID=America/Fortaleza:20150805T110000
DTEND;TZID=America/Fortaleza:20150805T123000
DTSTAMP:20260422T011242
CREATED:20170919T025120Z
LAST-MODIFIED:20170919T025120Z
UID:4710-1438772400-1438777800@www.flaviopaiva.com.br
SUMMARY:Fortaleza de Dunas Andantes
DESCRIPTION:Flávio Paiva conversa com estudantes do Ensino Fundamental que estão trabalhando a história de Fortaleza com base no livro Fortaleza – de Dunas Andantes a Cidade Banhada de Sol (Cortez Editora). \nData: 5 de agosto de 2015 (quarta-feira)\nHora: 11:00\nLocal: Colégio Deoclécio Ferro\nRua Minervino de Castro\, 987 – Parque Araxá\nFortaleza (CE).
URL:https://www.flaviopaiva.com.br/agenda/fortaleza-de-dunas-andantes/
END:VEVENT
BEGIN:VEVENT
DTSTART;TZID=America/Fortaleza:20150805T074500
DTEND;TZID=America/Fortaleza:20150805T093000
DTSTAMP:20260422T011242
CREATED:20170919T025210Z
LAST-MODIFIED:20170919T025210Z
UID:4712-1438760700-1438767000@www.flaviopaiva.com.br
SUMMARY:Saci no Colégio Militar
DESCRIPTION:Com mediação da professora Valéria Tavares\, Flávio Paiva conversa com estudantes do Colégio Militar de Fortaleza\, que vivenciaram a história e as músicas do livro-cd “A Festa do Saci” (Cortez Editora). \nData: 5 de agosto de 2015 (quarta-feira)\nHora: 07:45\nLocal: Colégio Militar – Fortaleza – CE
URL:https://www.flaviopaiva.com.br/agenda/saci-no-colegio-militar/
END:VEVENT
BEGIN:VEVENT
DTSTART;TZID=America/Fortaleza:20150523T090000
DTEND;TZID=America/Fortaleza:20150523T110000
DTSTAMP:20260422T011242
CREATED:20170919T025326Z
LAST-MODIFIED:20170919T025326Z
UID:4714-1432371600-1432378800@www.flaviopaiva.com.br
SUMMARY:SOBRE NICE FIRMEZA
DESCRIPTION:Flávio Paiva conversa com as crianças do Colégio Canarinho sobre a artista plástica Nice Firmeza (1921 – 2014)\, ilustradora do livro-cd “Flor de Maravilha” (Cortez Editora)\, dentro da programação da Mostra Cultural Canarinho. Mediação da Professora Lireda França. \nData: 23 de maio de 2015 (sábado)\nHora: 09:00\nLocal: Colégio Canarinho – Fortaleza – CE
URL:https://www.flaviopaiva.com.br/agenda/sobre-nice-firmeza/
END:VEVENT
BEGIN:VEVENT
DTSTART;TZID=America/Fortaleza:20150516T183000
DTEND;TZID=America/Fortaleza:20150516T210000
DTSTAMP:20260422T011242
CREATED:20170919T025423Z
LAST-MODIFIED:20170919T025423Z
UID:4716-1431801000-1431810000@www.flaviopaiva.com.br
SUMMARY:INVOCADO EM JUAZEIRO
DESCRIPTION:Show de lançamento do livro-cd “Invocado – um jeito brasileiro de ser musical”\, de Flávio Paiva (Armazém da Cultura)\, com a Banda Dona Zefinha participação especial de Luiz Fidelis\, autor de “Flor do Mamulengo”\, composição que integra o repertório das ilustrações musicais do livro-cd. \nData: 16 de maio de 2015 (sábado)\nHora: 18:30\nLocal: Teatro do CCBNB (Centro Cultural do Banco do Nordeste) – Juazeiro do Padre Cícero – CE
URL:https://www.flaviopaiva.com.br/agenda/invocado-em-juazeiro/
END:VEVENT
BEGIN:VEVENT
DTSTART;TZID=America/Fortaleza:20150515T193000
DTEND;TZID=America/Fortaleza:20150515T210000
DTSTAMP:20260422T011242
CREATED:20170919T025510Z
LAST-MODIFIED:20170919T025510Z
UID:4718-1431718200-1431723600@www.flaviopaiva.com.br
SUMMARY:INVOCADO EM NOVA OLINDA
DESCRIPTION:Show de lançamento do livro-cd “Invocado – um jeito brasileiro de ser musical”\, de Flávio Paiva (Armazém da Cultura)\, com a Banda Dona Zefinha participação especial de Abidoral Jamacaru\, autor de “Canto de coco para Azuleika e Pena Branca”\, composição que integra o repertório das ilustrações musicais do livro-cd. \nData: 15 de maio de 2015 (sexta-feira)\nHora: 19:30\nLocal: Teatro da Fundação Casa Grande Nova Olinda – CE
URL:https://www.flaviopaiva.com.br/agenda/invocado-em-nova-olinda/
END:VEVENT
BEGIN:VEVENT
DTSTART;TZID=America/Fortaleza:20150508T193000
DTEND;TZID=America/Fortaleza:20150508T213000
DTSTAMP:20260422T011242
CREATED:20170919T025601Z
LAST-MODIFIED:20170919T025601Z
UID:4720-1431113400-1431120600@www.flaviopaiva.com.br
SUMMARY:INVOCADO: lançamento do clipe + palestra ilustrada
DESCRIPTION:CONVITE (dois eventos de uma vez só) \n1. LANÇAMENTO DO CLIPE da música “Dança de Negros – Batuque”\, de Alberto Nepomuceno\, com letra de Fanta Konatê\, André Magalhães e Flávio Paiva\, filmado em Acarape\, com a Banda Dona Zefinha e a cantora Fanta Konatê. \n2. FALA ILUSTRADA “Esse Alberto Nepomuceno era mesmo um invocado!”\, com Flávio Paiva e participação especial de Orlângelo Leal\, da Banda Dona Zefinha. \nData: 08 de maio (sexta-feira)\nHora: 19h30\nLocal: Livraria Cultura (Av. Dom Luis\, 1010)
URL:https://www.flaviopaiva.com.br/agenda/invocado-lancamento-do-clipe-palestra-ilustrada/
END:VEVENT
BEGIN:VEVENT
DTSTART;TZID=America/Fortaleza:20150423T140000
DTEND;TZID=America/Fortaleza:20150423T160000
DTSTAMP:20260422T011242
CREATED:20170919T025726Z
LAST-MODIFIED:20170919T025726Z
UID:4722-1429797600-1429804800@www.flaviopaiva.com.br
SUMMARY:Dia D de incentivo à leitura
DESCRIPTION:Flávio Paiva conversa com alunos do 6º Ano da Escola Municipal Professor Luís Costa\, sobre o tema do livro FORTALEZA – De dunas andantes a cidade banhada de sol (Cortez Editora)\, dentro da programação do Dia Mundial do Livro. \nData: 23/04/2015\nHora: 14 horas\nLocal: Rua Jaime Leonel\,156\, bairro Luciano Cavalcante\, Fortaleza.
URL:https://www.flaviopaiva.com.br/agenda/dia-d-de-incentivo-leitura/
END:VEVENT
BEGIN:VEVENT
DTSTART;TZID=America/Fortaleza:20150411T083000
DTEND;TZID=America/Fortaleza:20150411T110000
DTSTAMP:20260422T011242
CREATED:20170919T025815Z
LAST-MODIFIED:20170919T025815Z
UID:4724-1428741000-1428750000@www.flaviopaiva.com.br
SUMMARY:Conversa sobre a MÚSICA INVOCADA DO BRASIL na Fa7
DESCRIPTION:A crescente valorização da diversidade requer olhares sobre a música para além dos padrões estabelecidos pela Indústria Cultural e pela historiografia tradicionais. Autor do livro-CD “Invocado – um jeito brasileiro de ser musical” (Armazém da Cultura)\, Flávio Paiva faz essa provocação a partir de um recorte surpreendente da música brasileira no Ceará. \nData: 11/04/2015\nHora: 8h30\nLocal: Fa7 (Av. Alm. Maximiniano da Fonseca\, 1395 – Luciano Cavalcante)\, no evento Balaio Pedagógico
URL:https://www.flaviopaiva.com.br/agenda/conversa-sobre-musica-invocada-do-brasil-na-fa7/
END:VEVENT
BEGIN:VEVENT
DTSTART;TZID=America/Fortaleza:20150217T170000
DTEND;TZID=America/Fortaleza:20150217T190000
DTSTAMP:20260422T011242
CREATED:20170919T025901Z
LAST-MODIFIED:20170919T025901Z
UID:4726-1424192400-1424199600@www.flaviopaiva.com.br
SUMMARY:Lançamento do livro-cd “Invocado – um jeito brasileiro de ser musical” no Festival de Guaramiranga
DESCRIPTION:Flávio Paiva lança seu novo livro-cd “Invocado – um jeito brasileiro de ser musical” (Armazém da Cultura)\, durante o programa Ensaio Aberto da cantora Fanta Konatê\, no Festival de Jazz e Blues de Guaramiranga. \nData: 17/02/2015\nHora: 17h00\nLocal: Cidade Jazz & Blues – Guaramiranga – CE
URL:https://www.flaviopaiva.com.br/agenda/lancamento-do-livro-cd-invocado-um-jeito-brasileiro-de-ser-musical-no-festival-de-guaramiranga/
END:VEVENT
BEGIN:VEVENT
DTSTART;TZID=America/Fortaleza:20141214T160000
DTEND;TZID=America/Fortaleza:20141214T190000
DTSTAMP:20260422T011242
CREATED:20170919T030526Z
LAST-MODIFIED:20170919T202254Z
UID:4728-1418572800-1418583600@www.flaviopaiva.com.br
SUMMARY:Show de lançamento do livro-cd "Invocado - um jeito brasileiro de ser musical"
DESCRIPTION:Flávio Paiva lança seu novo livro-cd “Invocado – um jeito brasileiro de ser musical” (Armazém da Cultura)\, com show da banda Dona Zefinha apresentando o repertório invocado (do CD que faz parte da capa do livro)\, numa musicalidade que se estende de Alberto Nepomuceno a Abidoral Jamacaru\, passando por Messias Holanda\, Petrúcio Maia\, Evaldo Gouveia\, Neo Pinel\, Luís Fidelis\, Xerém\, Flávio Paiva e Orlângelo Leal. \nO lançamento contará ainda com exposição fotográfica de Marcos Vieira e participação da cantora Fanta Konatê\, da África ocidental. \nData: 14/12/2014\nHora: 16h00\nLocal: Teatro Carlos Câmara (Rua Senador Pompeu\, 454 – Centro – Fortaleza/CE) \nEntrada Gratuita
URL:https://www.flaviopaiva.com.br/agenda/show-de-lancamento-do-livro-cd-invocado-um-jeito-brasileiro-de-ser-musical/
ATTACH;FMTTYPE=image/jpeg:https://www.flaviopaiva.com.br/wp-content/uploads/2014/11/capa-site-lancamento-invocado.jpg
END:VEVENT
BEGIN:VEVENT
DTSTART;TZID=America/Fortaleza:20141117T073000
DTEND;TZID=America/Fortaleza:20141117T120000
DTSTAMP:20260422T011242
CREATED:20170919T030618Z
LAST-MODIFIED:20170919T030618Z
UID:4730-1416209400-1416225600@www.flaviopaiva.com.br
SUMMARY:Consciência em Movimento
DESCRIPTION:Flávio Paiva conversa com crianças das turmas de 6º ano do colégio Marupiara sobre o livro-CD “A Festa do Saci” (Cortez Editora) e sobre elementos afros constituintes do Saci Pererê. \nTema: Saci no projeto “Consciência em Movimento”\nData: 17 de novembro de 2014 (segunda-feira)\nHora: 07:30 ao meio-dia\nLocal: Colégio Marupiara\nRua Evangelina\, 1390 – Jd. Têxtil – São Paulo/SP
URL:https://www.flaviopaiva.com.br/agenda/consciencia-em-movimento/
END:VEVENT
BEGIN:VEVENT
DTSTART;TZID=America/Fortaleza:20141017T073000
DTEND;TZID=America/Fortaleza:20141017T093000
DTSTAMP:20260422T011242
CREATED:20170919T030726Z
LAST-MODIFIED:20170919T030726Z
UID:4732-1413531000-1413538200@www.flaviopaiva.com.br
SUMMARY:Crianças surdas fazem festa do Saci
DESCRIPTION:Entrevista coletiva de Flávio Paiva com crianças e adolescentes com insuficiência auditiva\, do Instituto Filippo Smaldone\, preparatória da Feira de Literatura inspirada no livro-CD “Se você fosse um saci” (Armazém da Cultura) que acontecerá na escola nos dias 30 e 31 de outubro. \nTema: “Se você fosse um saci”\nData: 17 de outubro de 2014 (sexta-feira)\nHora: 07:30\nLocal: Instituto Filippo Smaldone\n(Rua Adolfo Siqueira\, 273 – Fortaleza-CE)
URL:https://www.flaviopaiva.com.br/agenda/criancas-surdas-fazem-festa-do-saci/
END:VEVENT
BEGIN:VEVENT
DTSTART;TZID=America/Fortaleza:20140923T160000
DTEND;TZID=America/Fortaleza:20140923T180000
DTSTAMP:20260422T011242
CREATED:20170919T200224Z
LAST-MODIFIED:20170919T200224Z
UID:4736-1411488000-1411495200@www.flaviopaiva.com.br
SUMMARY:FIL Festival Internacional Intercâmbio de Linguagens
DESCRIPTION:Flávio Paiva participa da mesa “Criança em Primeiro Lugar”\, com Renata Meireles (Território do Brincar) e mediação de Laís Fontenele (Instituto Alana)\, dentro programação do I Fórum Nacional Cultura Infância\, do 12° FIL Festival Internacional Intercâmbio de Linguagens. \n12° FIL Festival Internacional Intercâmbio de Linguagens I Fórum Nacional Cultura Infância\nTema: “Criança em Primeiro Lugar”\nData: 23 de setembro de 2014 (terça-feira)\nHora: 16 às 18 horas\nLocal: Oi Futuro (Rua 2 de Dezembro\, 63 – Flamengo – Rio de  Janeiro-RJ)
URL:https://www.flaviopaiva.com.br/agenda/fil-festival-internacional-intercambio-de-linguagens/
END:VEVENT
BEGIN:VEVENT
DTSTART;TZID=America/Fortaleza:20140813T180000
DTEND;TZID=America/Fortaleza:20140813T200000
DTSTAMP:20260422T011242
CREATED:20170919T200404Z
LAST-MODIFIED:20170919T200404Z
UID:4738-1407952800-1407960000@www.flaviopaiva.com.br
SUMMARY:Lançamento da revista Entrevista
DESCRIPTION:Flávio Paiva é um dos entrevistados da edição nº 31 da badalada publicação da disciplina Laboratório de Jornalismo Impresso\, do Cursos de Comunicação Social da Universidade FEderal do Ceará (UFC)\, que tem orientação do professor Ronaldo Salgado.\nData: 13 de Agosto de 2014 (quarta-feira)\nHora: 18 horas
URL:https://www.flaviopaiva.com.br/agenda/lancamento-da-revista-entrevista/
END:VEVENT
BEGIN:VEVENT
DTSTART;TZID=America/Fortaleza:20140809T193000
DTEND;TZID=America/Fortaleza:20140809T213000
DTSTAMP:20260422T011242
CREATED:20170919T200448Z
LAST-MODIFIED:20170919T200448Z
UID:4740-1407612600-1407619800@www.flaviopaiva.com.br
SUMMARY:Entrega do 6º Prêmio Flávio Paiva
DESCRIPTION:O autor independenciano participa da solenidade de entrega dos prêmios e certificados aos dez primeiros colocados da premiação que leva o seu nome\, realizada pela História Viva desde 2009\, com o objetivo de estimular a leitura\, a produção literária e a participação da juventude.\nData: 09 de Agosto de 2014 (sábado)\nHora: 19:30\nLocal: Casa da Memória e Estação Leitura\n63640-000 – Independência-CE
URL:https://www.flaviopaiva.com.br/agenda/entrega-do-6o-premio-flavio-paiva/
END:VEVENT
BEGIN:VEVENT
DTSTART;TZID=America/Fortaleza:20140601T190000
DTEND;TZID=America/Fortaleza:20140601T210000
DTSTAMP:20260422T011242
CREATED:20170919T200534Z
LAST-MODIFIED:20170919T202655Z
UID:4742-1401649200-1401656400@www.flaviopaiva.com.br
SUMMARY:CHUTEIRA DOURADA NOS 100 ANOS DO CEARÁ SPORTING CLUB
DESCRIPTION:Na festa do centenário do Ceará SC\, o Centro Cultural Evandro Leitão\, que abriga o acervo de glórias do Mais Querido\, inaugurará sua Sala Multiuso\, com o lançamento do livro infantojuvenil CHUTEIRA DOURADA do jornalista e escritor Flávio Paiva.\nO lançamento do CHUTEIRA DOURADA\, editado pelo Armazém da Cultura\, contará com a presença de atletas do Vozão de Porangabuçu e da garotada da escolinha dirigida por Dimas Filgueiras\, o lendário Soldado Alvinegro. \nData: 1º de junho de 2014 (domingo)\nHora: 19:00\nLocal: Centro Cultural do Ceará Sporting Club\nAv. João Pessoa\, 3532 – Porangabuçu.
URL:https://www.flaviopaiva.com.br/agenda/chuteira-dourada-nos-100-anos-do-ceara-sporting-club/
ATTACH;FMTTYPE=image/jpeg:https://www.flaviopaiva.com.br/wp-content/uploads/2014/05/chuteira_dourada_ce.jpg
END:VEVENT
BEGIN:VEVENT
DTSTART;TZID=America/Fortaleza:20140511T150000
DTEND;TZID=America/Fortaleza:20140511T170000
DTSTAMP:20260422T011242
CREATED:20170919T200611Z
LAST-MODIFIED:20170919T200611Z
UID:4744-1399820400-1399827600@www.flaviopaiva.com.br
SUMMARY:Lançamento CIÇO em Garanhuns
DESCRIPTION:Lançamento do livro “Ciço na guerra dos rebeldes”\, de Flávio Paiva (Cortez Editora)\, na Bienal de Garanhuns.\nData: 11/05/2014 (domingo)\nHora: 15 horas\nLocal: Garanhuns – PE
URL:https://www.flaviopaiva.com.br/agenda/lancamento-cico-em-garanhuns/
END:VEVENT
BEGIN:VEVENT
DTSTART;TZID=America/Fortaleza:20140510T093000
DTEND;TZID=America/Fortaleza:20140510T120000
DTSTAMP:20260422T011242
CREATED:20170919T200739Z
LAST-MODIFIED:20170919T202732Z
UID:4746-1399714200-1399723200@www.flaviopaiva.com.br
SUMMARY:Lançamento do livro "Chuteira Dourada"
DESCRIPTION:Lançamento do livro “Chuteira Dourada”\, de Flávio Paiva (Armazém da Cultura)\, no Museu do Futebol (Espaço Cultural Etevaldo Nogueira) da Arena Castelão\, onde estão expostas imagens da história do esporte cearense. O lançamento tem o apoio da Secretaria Municipal Extraordinária da Copa (SecopaFor) e da Secretaria Especial da Copa do Estado do Ceará. \nData: 10 de maio de 2014 (sábado)\nHora: 09:30 horas\nLocal: Espaço Cultural Etevaldo Nogueira (Museu do Futebol) e gramado da Arena Castelão\, onde grandes craques do futebol mundial disputarão as partidas da Copa do Mundo de 2014 realizadas em Fortaleza.
URL:https://www.flaviopaiva.com.br/agenda/lancamento-do-livro-chuteira-dourada/
ATTACH;FMTTYPE=image/jpeg:https://www.flaviopaiva.com.br/wp-content/uploads/2014/05/chuteira_dourada_site.jpg
END:VEVENT
BEGIN:VEVENT
DTSTART;TZID=America/Fortaleza:20140503T100000
DTEND;TZID=America/Fortaleza:20140503T120000
DTSTAMP:20260422T011242
CREATED:20170919T200833Z
LAST-MODIFIED:20170919T200833Z
UID:4748-1399111200-1399118400@www.flaviopaiva.com.br
SUMMARY:Lançamento CIÇO em Juazeiro
DESCRIPTION:Lançamento do livro “Ciço na guerra dos rebeldes”\, de Flávio Paiva (Cortez Editora)\, em Juazeiro do Padre Cícero. \nData: 03/05/2014 (sábado)\nHora: 10 horas da manhã\nLocal: Livraria Nobel\nRua Padre Cícero\, 604 – Centro\n63010-020 – Juazeiro do Norte – CE
URL:https://www.flaviopaiva.com.br/agenda/lancamento-cico-em-juazeiro/
END:VEVENT
BEGIN:VEVENT
DTSTART;TZID=America/Fortaleza:20140414T080000
DTEND;TZID=America/Fortaleza:20140414T100000
DTSTAMP:20260422T011242
CREATED:20170919T200907Z
LAST-MODIFIED:20170919T200907Z
UID:4750-1397462400-1397469600@www.flaviopaiva.com.br
SUMMARY:Aniversário de Fortaleza
DESCRIPTION:Flávio Paiva conversa com estudantes do 3º Ano do Ensino Fundamental\, do Colégio Santa Isabel\, sobre a história de Fortaleza (que completa 288 anos de fundação no dia 13)\, a partir do livro “Fortaleza – de dunas andantes a cidade banhada de sol” (Cortez Editora).\nData: 14/04/2014 (segunda-feira)\nHora: 08:00 horas\nLocal: Colégio Santa Isabel\nAvenida Bezerra de Menezes\, 2840\n60325-002 – Fortaleza – CE
URL:https://www.flaviopaiva.com.br/agenda/aniversario-de-fortaleza/
END:VEVENT
BEGIN:VEVENT
DTSTART;TZID=America/Fortaleza:20140406T170000
DTEND;TZID=America/Fortaleza:20140406T180000
DTSTAMP:20260422T011242
CREATED:20170919T200944Z
LAST-MODIFIED:20170919T200944Z
UID:4753-1396803600-1396807200@www.flaviopaiva.com.br
SUMMARY:Cultura Infância no Cena Pública 
DESCRIPTION:Flávio Paiva\, Ana Márcia Diógenes (Secretária-Adjunta da Secult/Ce) e Ednéia Tutti (Coordenadora do Programa Cidadania – Prefeitura de Fortaleza) participam de debate sobre o Plano de Cultura Infância\, no programa Cena Pública\, que foi ao ar na terça-feira\, 01/04/2014\, às 22 horas\, pela TVC (Ceará)\, com apresentação de .Cristian De Carli. \nData: 06/04/2014 (domingo)\nHora: 17 horas (duração de 60min)\nLocal: www.tvceara.ce.gov.br
URL:https://www.flaviopaiva.com.br/agenda/cultura-infancia-no-cena-publica/
END:VEVENT
BEGIN:VEVENT
DTSTART;TZID=America/Fortaleza:20140405T150000
DTEND;TZID=America/Fortaleza:20140405T160000
DTSTAMP:20260422T011242
CREATED:20170919T201017Z
LAST-MODIFIED:20170919T201017Z
UID:4755-1396710000-1396713600@www.flaviopaiva.com.br
SUMMARY:CIÇO na FM Assembleia
DESCRIPTION:Flávio Paiva fala sobre o livro “Ciço na Guerra dos Rebeldes” (Cortez Editora\, 2014) em entrevista a Lilian Martins\, no programa Autores & Ideias\, da Rádio FM Assembleia 96\,7\nData:05/04/2014 (sábado)\nHora: 15 horas\nLocal: FM Assembleia AO VIVO\nObs: reprise na terça-feira (dia 08)\, às 20horas
URL:https://www.flaviopaiva.com.br/agenda/cico-na-fm-assembleia/
END:VEVENT
BEGIN:VEVENT
DTSTART;TZID=America/Fortaleza:20140330T090000
DTEND;TZID=America/Fortaleza:20140330T120000
DTSTAMP:20260422T011242
CREATED:20170919T201100Z
LAST-MODIFIED:20170919T201100Z
UID:4757-1396170000-1396180800@www.flaviopaiva.com.br
SUMMARY:Plano de Cultura para a Infância
DESCRIPTION:Flávio Paiva participa da Assembleia Geral do Plano Estadual de Cultura para a Infância\, na condição de  relator do GT “Cidadania e Diversidade Cultural”. \nData: 30/03/2014 (domingo)\nHora: de 9 horas ao meio-dia.\nLocal: Porto Iracema das Artes\nRua Dragão do Mar\, 160 – Praia de Iracema – Fortaleza-CE
URL:https://www.flaviopaiva.com.br/agenda/plano-de-cultura-para-infancia/
END:VEVENT
BEGIN:VEVENT
DTSTART;TZID=America/Fortaleza:20140329T090000
DTEND;TZID=America/Fortaleza:20140329T120000
DTSTAMP:20260422T011242
CREATED:20170919T201152Z
LAST-MODIFIED:20170919T201152Z
UID:4759-1396083600-1396094400@www.flaviopaiva.com.br
SUMMARY:Plano de Cultura para a Infância
DESCRIPTION:Flávio Paiva participa como relator do GT “Cidadania e Diversidade Cultural” que produzirá subsídios para a elaboração do Plano Estadual de Cultura para a Infância. \nData: 29/03/2014 (sábado)\nHora: de 9 horas ao meio-dia e de 14 às 18 horas\nLocal: Porto Iracema das Artes\nRua Dragão do Mar\, 160 – Praia de Iracema – Fortaleza-CE
URL:https://www.flaviopaiva.com.br/agenda/plano-de-cultura-para-infancia-2/
END:VEVENT
BEGIN:VEVENT
DTSTART;TZID=America/Fortaleza:20140324T190000
DTEND;TZID=America/Fortaleza:20140324T210000
DTSTAMP:20260422T011242
CREATED:20170919T201239Z
LAST-MODIFIED:20170919T201552Z
UID:4761-1395687600-1395694800@www.flaviopaiva.com.br
SUMMARY:Lançamento do livro "Ciço na guerra dos rebeldes"
DESCRIPTION:No dia do aniversário de 170 anos de nascimento do Padre Cícero (1844 – 1934)\, Flávio Paiva lança a ficção histórica juvenil/adulto Ciço na Guerra dos Rebeldes(Cortez Editora) para contar como\, em nome de Deus\, o mais expressivo mito popular do Brasil enfrentou o Papa\, abençoou Lampião e orientou o povo de Juazeiro a pegar nas armas e abraçar a fé para conquistar seu destino. Na ocasião\, Raíssa Veloso expõe o ensaio fotográfico “De Percepções Sobrepostas”\, na qual relata com imagens intensas a sensação de curiosidade e atordoamento experienciada entre cantos\, cores\, silêncios e gritos que sentiu na sua passagem pela cidade-sertão. \nData: 24/03/2014 (segunda-feira)\nHora: 19 horas\nLocal: Mambembe Casa de Arte\nRua dos Tabajaras\, 368 – Praia de Iracema – Fortaleza (CE).
URL:https://www.flaviopaiva.com.br/agenda/lancamento-do-livro-cico-na-guerra-dos-rebeldes/
ATTACH;FMTTYPE=image/jpeg:https://www.flaviopaiva.com.br/wp-content/uploads/2012/01/lancamento_cico_conviteeletronico.jpg
END:VEVENT
BEGIN:VEVENT
DTSTART;TZID=America/Fortaleza:20140302T150000
DTEND;TZID=America/Fortaleza:20140302T160000
DTSTAMP:20260422T011242
CREATED:20170919T201632Z
LAST-MODIFIED:20170919T201632Z
UID:4764-1393772400-1393776000@www.flaviopaiva.com.br
SUMMARY:Festival Saberes e Sabores
DESCRIPTION:Flávio Paiva participa do bate papo com o autor no “Festival de Literatura e Gastronomia” da serra de Guaramiranga\, sobre o livro/CD “Se você fosse um saci” e o livro de poemas narrativos “Brincadieras de Sol e Mar”\, infantis editados pelo Armazém da Cultura.\nData: Domingo\, dia 2 de março de 2014\nHora: De 15:00 às 16:00\nLocal: Hotel Escola – IFCE\nGuaramiranga – Ceará.
URL:https://www.flaviopaiva.com.br/agenda/festival-saberes-e-sabores/
END:VEVENT
BEGIN:VEVENT
DTSTART;TZID=America/Fortaleza:20131205T153000
DTEND;TZID=America/Fortaleza:20131205T170000
DTSTAMP:20260422T011242
CREATED:20170919T201711Z
LAST-MODIFIED:20170919T201711Z
UID:4766-1386257400-1386262800@www.flaviopaiva.com.br
SUMMARY:Café Literário
DESCRIPTION:Flávio Paiva conversa com participantes dos Polos de Leitura de bairros de Fortaleza\, sobre os livros “Brincadeiras de Sol e Mar” e “Se você fosse um Saci”\, editados pelo Armazém da Cultura. \nData: Quinta-feira\, dia 5 de dezembro de 2013\nHora: 15:30\nLocal: Auditório do Armazém da Cultura\nRua Jorge da Rocha\, 154 – Aldeota – Fortaleza – Ceará \nInformações adicionais:\nArmazém da Cultura (85) 3224-9780
URL:https://www.flaviopaiva.com.br/agenda/cafe-literario/
END:VEVENT
BEGIN:VEVENT
DTSTART;TZID=America/Fortaleza:20131130T160000
DTEND;TZID=America/Fortaleza:20131130T180000
DTSTAMP:20260422T011242
CREATED:20170919T201928Z
LAST-MODIFIED:20170919T201928Z
UID:4768-1385827200-1385834400@www.flaviopaiva.com.br
SUMMARY:Lançamento do livro "Brincadeiras de sol e mar"
DESCRIPTION:Flávio Paiva lança o novo livro infantil “Brincadeiras de Sol e Mar”\, com dois poemas narrativos ilustrados pelo cartunista Mino\, dentro da programação do Armazém da Cultura e do Fórum de Quadrinhos do Ceará em homenagem aos 40 anos do Capitão Rapadura\, o mais cearense dos super-heróis das Histórias em Quadrinhos. \nData: Sábado\, dia 30 de novembro de 2013\nHora: 16 horas\nLocal: Livraria Cultura (Av. Dom Luís\, 1010 – Fortaleza – Ceará) \nInformações adicionais:\nArmazém da Cultura (85) 3224-9780
URL:https://www.flaviopaiva.com.br/agenda/lancamento-do-livro-brincadeiras-de-sol-e-mar/
END:VEVENT
BEGIN:VEVENT
DTSTART;TZID=America/Fortaleza:20131103T100000
DTEND;TZID=America/Fortaleza:20131103T120000
DTSTAMP:20260422T011242
CREATED:20170919T203749Z
LAST-MODIFIED:20170919T203749Z
UID:4773-1383472800-1383480000@www.flaviopaiva.com.br
SUMMARY:Saci no Parque
DESCRIPTION:Flávio Paiva participa da roda de conversas sacizísticas no Parque Rio Branco\, numa realização do Movimento Pró-Parque e do mandato do ver. João Alfredo (Psol). Vai ter música com a Joyce Custódio\, performance com a arte-educadora Sâmia Bittencourt\, piquenique e trocas de livros e brinquedos.\nLocal: Parque Ecológico Rio Branco – Bairro Joaquim Távora – Fortaleza\n(Entrada pela av. Pontes Vieira).\nHora: 10h00
URL:https://www.flaviopaiva.com.br/agenda/saci-no-parque/
END:VEVENT
END:VCALENDAR