BEGIN:VCALENDAR
VERSION:2.0
PRODID:-//Flávio Paiva - ECPv6.2.9//NONSGML v1.0//EN
CALSCALE:GREGORIAN
METHOD:PUBLISH
X-ORIGINAL-URL:https://www.flaviopaiva.com.br
X-WR-CALDESC:Eventos para Flávio Paiva
REFRESH-INTERVAL;VALUE=DURATION:PT1H
X-Robots-Tag:noindex
X-PUBLISHED-TTL:PT1H
BEGIN:VTIMEZONE
TZID:America/Fortaleza
BEGIN:STANDARD
TZOFFSETFROM:-0300
TZOFFSETTO:-0300
TZNAME:-03
DTSTART:20100101T000000
END:STANDARD
END:VTIMEZONE
BEGIN:VEVENT
DTSTART;TZID=America/Fortaleza:20121025T183000
DTEND;TZID=America/Fortaleza:20121025T203000
DTSTAMP:20260422T100051
CREATED:20170921T205119Z
LAST-MODIFIED:20170921T205119Z
UID:4826-1351189800-1351197000@www.flaviopaiva.com.br
SUMMARY:Da SACIologia à SACIzada 
DESCRIPTION:Flávio Paiva fala sobre a importância da Festa do Saci como contribuição à afirmação da brasilidade na nova geopolítica mundial.\nLocal: CETRA -Centro de Estudos do Trabalho e de Assessoria ao Trabalhador\nRua Capitão Gustavo\, 3842 – São João do Tauape\n60120-140 – Fortaleza – CE.\nHora: 18h30min
URL:https://www.flaviopaiva.com.br/agenda/da-saciologia-sacizada/
END:VEVENT
BEGIN:VEVENT
DTSTART;TZID=America/Fortaleza:20120926T193000
DTEND;TZID=America/Fortaleza:20120926T213000
DTSTAMP:20260422T100051
CREATED:20170921T205206Z
LAST-MODIFIED:20170921T205206Z
UID:4828-1348687800-1348695000@www.flaviopaiva.com.br
SUMMARY:Palestra Educação e Consumo
DESCRIPTION:Palestra de Flávio Paiva sobre “A Família na Educação para o Consumo”\, para pais da Educação Infantil ao Ensino Médio.\nLocal: Colégio Santa Cecília – Aldeota\nFortaleza – CE\nHora: das 19:30 às 21:30
URL:https://www.flaviopaiva.com.br/agenda/palestra-educacao-e-consumo/
END:VEVENT
BEGIN:VEVENT
DTSTART;TZID=America/Fortaleza:20120811T190000
DTEND;TZID=America/Fortaleza:20120811T210000
DTSTAMP:20260422T100051
CREATED:20170921T205239Z
LAST-MODIFIED:20170921T205239Z
UID:4830-1344711600-1344718800@www.flaviopaiva.com.br
SUMMARY:ONG História Viva
DESCRIPTION:Entrega do 4º Prêmio Literário Flávio Paiva\nLocal: Antiga estação de trem do Batalhão\n63640-000 – Independência – CE.\nHora: 19 horas.
URL:https://www.flaviopaiva.com.br/agenda/ong-historia-viva/
END:VEVENT
BEGIN:VEVENT
DTSTART;TZID=America/Fortaleza:20120701T100000
DTEND;TZID=America/Fortaleza:20120701T120000
DTSTAMP:20260422T100051
CREATED:20170921T205834Z
LAST-MODIFIED:20170921T205834Z
UID:4833-1341136800-1341144000@www.flaviopaiva.com.br
SUMMARY:I Meeting Nacional de Educação e Tecnologia
DESCRIPTION:Palestra de Flávio Paiva sobre\n“Midiaeducação: debatendo o papel das mídias na\neducação para o consumo”\nLocal: Teatro Guararapes – Centro de Convenções – Olinda-PE\nHora: de 10 às 12 horas \nClique aqui e veja o cartaz do evento
URL:https://www.flaviopaiva.com.br/agenda/i-meeting-nacional-de-educacao-e-tecnologia/
END:VEVENT
BEGIN:VEVENT
DTSTART;TZID=America/Fortaleza:20120626T160000
DTEND;TZID=America/Fortaleza:20120626T180000
DTSTAMP:20260422T100051
CREATED:20170921T205914Z
LAST-MODIFIED:20170921T205914Z
UID:4835-1340726400-1340733600@www.flaviopaiva.com.br
SUMMARY:Fórum Nacional de Comunicação e Justiça
DESCRIPTION:Palestra de Flávio Paiva no painel\n“Justiça\, Comunicação\, Transparência e Acessibilidade”\,\ndo VIII Congresso Brasileiros de Assessores\nde Comunicação e Justiça. \nLocal: Centro Cultural do Parlamento Cearense\nAnexo II – Assembleia Legislativa do Ceará\nFortaleza – CE\nHora: 16 horas.
URL:https://www.flaviopaiva.com.br/agenda/forum-nacional-de-comunicacao-e-justica/
END:VEVENT
BEGIN:VEVENT
DTSTART;TZID=America/Fortaleza:20120526T163000
DTEND;TZID=America/Fortaleza:20120526T183000
DTSTAMP:20260422T100051
CREATED:20170921T205945Z
LAST-MODIFIED:20170921T205945Z
UID:4837-1338049800-1338057000@www.flaviopaiva.com.br
SUMMARY:Encontro com o Autor
DESCRIPTION:Flávio Paiva participa de encontro com as crianças que desenvolvem atividades escolares a partir dos seus livros.\nLocal: Escola Desembargador Pedro de Queirós (Rua José Bessa nº 561\, centro) Beberibe-CE.\nHora: 16:30
URL:https://www.flaviopaiva.com.br/agenda/encontro-com-o-autor/
END:VEVENT
BEGIN:VEVENT
DTSTART;TZID=America/Fortaleza:20120325T150000
DTEND;TZID=America/Fortaleza:20120325T170000
DTSTAMP:20260422T100051
CREATED:20170921T210018Z
LAST-MODIFIED:20170921T210018Z
UID:4839-1332687600-1332694800@www.flaviopaiva.com.br
SUMMARY:Palestra de Flávio Paiva no 3º Encontro do Movimento Pró-Árvore
DESCRIPTION:Tema: “Conversando sobre Cidadania Orgânica”\nLocal: Centro de Referência Ambiental do Parque do Cocó – Fortaleza (Próximo ao Anfiteatro\, com entrada pela av. Padre Antonio Tomás)\nHora: 15 horas.
URL:https://www.flaviopaiva.com.br/agenda/palestra-de-flavio-paiva-no-3o-encontro-do-movimento-pro-arvore/
END:VEVENT
BEGIN:VEVENT
DTSTART;TZID=America/Fortaleza:20111211T150000
DTEND;TZID=America/Fortaleza:20111211T170000
DTSTAMP:20260422T100051
CREATED:20170923T205742Z
LAST-MODIFIED:20170923T205742Z
UID:4841-1323615600-1323622800@www.flaviopaiva.com.br
SUMMARY:Movimento Pró-Árvore
DESCRIPTION:Hora: 15 horas\nLocal: Passeio Público – Fortaleza \nFoco no verde – Flávio Paiva junta-se a pessoas da arquitetura\, história\, sociologia\, direito\, educação\, artes plásticas\, poesia\, psicologia\, agronomia e botânica em reunião de construção do MpA. \n 
URL:https://www.flaviopaiva.com.br/agenda/movimento-pro-arvore/
END:VEVENT
BEGIN:VEVENT
DTSTART;TZID=America/Fortaleza:20111125T140000
DTEND;TZID=America/Fortaleza:20111125T160000
DTSTAMP:20260422T100051
CREATED:20170923T205957Z
LAST-MODIFIED:20170923T210055Z
UID:4843-1322229600-1322236800@www.flaviopaiva.com.br
SUMMARY:CEI Dom Aloísio Lorscheider
DESCRIPTION:Hora: 14 horas\nLocal: Praia do Futuro \nProjeto Vida na Praia – Flávio Paiva participa da culminância do projeto Vida na Praia\, inspirado no livro “Fortaleza – de dunas andantes a cidade banhada de sol”.
URL:https://www.flaviopaiva.com.br/agenda/escola-creche-vila-crianca/
END:VEVENT
BEGIN:VEVENT
DTSTART;TZID=America/Fortaleza:20111112T190000
DTEND;TZID=America/Fortaleza:20111112T210000
DTSTAMP:20260422T100051
CREATED:20170923T210721Z
LAST-MODIFIED:20170923T210721Z
UID:4846-1321124400-1321131600@www.flaviopaiva.com.br
SUMMARY:Colégio Nossa Senhora das Graças
DESCRIPTION:Hora: 19 horas\nLocal: Rua Monsenhor Otávio de Castro\, 535 – Fátima \nFlor de Maravilha – Flávio Paiva participa da festa de final de ano da escola e autografa seus livros após as crianças e as educadoras dançarem ao som da música “Fábula sem moral”\, do Flor de Maravilha.
URL:https://www.flaviopaiva.com.br/agenda/colegio-nossa-senhora-das-gracas/
END:VEVENT
BEGIN:VEVENT
DTSTART;TZID=America/Fortaleza:20111104T090000
DTEND;TZID=America/Fortaleza:20111104T110000
DTSTAMP:20260422T100051
CREATED:20170923T210811Z
LAST-MODIFIED:20170923T210811Z
UID:4848-1320397200-1320404400@www.flaviopaiva.com.br
SUMMARY:Instituto Alana
DESCRIPTION:Hora: 9 horas\nLocal: São Paulo. \nCriança e Consumo – Flávio Paiva participa da reunião do Conselho Consultivo do projeto Criança e Consumo.
URL:https://www.flaviopaiva.com.br/agenda/instituto-alana/
END:VEVENT
BEGIN:VEVENT
DTSTART;TZID=America/Fortaleza:20111021T143000
DTEND;TZID=America/Fortaleza:20111021T163000
DTSTAMP:20260422T100051
CREATED:20170923T210939Z
LAST-MODIFIED:20170923T210939Z
UID:4850-1319207400-1319214600@www.flaviopaiva.com.br
SUMMARY:Universidade Federal do Ceará
DESCRIPTION:Hora: 14h30min\nLocal: Anfiteatro da Matemática – Campus do Pici \nCírculo da Juventude\, dos Encontros Universitários – Flávio Paiva faz a palestra “O que sonha a juventude brasileira?”
URL:https://www.flaviopaiva.com.br/agenda/universidade-federal-do-ceara/
END:VEVENT
BEGIN:VEVENT
DTSTART;TZID=America/Fortaleza:20111020T160000
DTEND;TZID=America/Fortaleza:20111020T180000
DTSTAMP:20260422T100051
CREATED:20170923T211025Z
LAST-MODIFIED:20170923T211025Z
UID:4852-1319126400-1319133600@www.flaviopaiva.com.br
SUMMARY:Instituto Stela Naspolini
DESCRIPTION:Hora: 16 horas\nLocal: Hotel Oásis Atlântico. Av. Beira-Mar\, 2.500 – Fortaleza \nSeminário sobre Políticas Públicas para as Crianças – Flávio Paiva faz a conferência-espetáculo “Cantar com palavras – a brincadeira da literatura com a música”\, com a participação especial de Orlângelo Leal.
URL:https://www.flaviopaiva.com.br/agenda/instituto-stela-naspolini/
END:VEVENT
BEGIN:VEVENT
DTSTART;TZID=America/Fortaleza:20111014T200000
DTEND;TZID=America/Fortaleza:20111014T213000
DTSTAMP:20260422T100051
CREATED:20170923T211133Z
LAST-MODIFIED:20170923T211133Z
UID:4854-1318622400-1318627800@www.flaviopaiva.com.br
SUMMARY:Rádio FM Universitária
DESCRIPTION:Hora: 20 horas\nLocal: Av. da Universidade\, 2910 – Benfica – Fortaleza \nII Festival de Música – na condição de membro da comissão julgadora\, Flávio Paiva participa da solenidade de entrega dos prêmios e certificados dos vencedores do II Festival de Música da Universitária FM\, que tem como objetivo revelar e divulgar obras de compositores\, instrumentistas e arranjadores que moram no Ceará.
URL:https://www.flaviopaiva.com.br/agenda/radio-fm-universitaria/
END:VEVENT
BEGIN:VEVENT
DTSTART;TZID=America/Fortaleza:20111006T141500
DTEND;TZID=America/Fortaleza:20111006T163000
DTSTAMP:20260422T100051
CREATED:20170923T211218Z
LAST-MODIFIED:20170923T211218Z
UID:4857-1317910500-1317918600@www.flaviopaiva.com.br
SUMMARY:TV Unifor
DESCRIPTION:Hora: 14h15min\nLocal: Universidade de Fortaleza \nPublicidade Infantil – Flávio Paiva participa debate na TV Unifor.
URL:https://www.flaviopaiva.com.br/agenda/tv-unifor/
END:VEVENT
BEGIN:VEVENT
DTSTART;TZID=America/Fortaleza:20110927T100000
DTEND;TZID=America/Fortaleza:20110927T120000
DTSTAMP:20260422T100051
CREATED:20170923T211256Z
LAST-MODIFIED:20170923T211256Z
UID:4859-1317117600-1317124800@www.flaviopaiva.com.br
SUMMARY:Secretaria de Educação do Ceará
DESCRIPTION:Hora: 10 horas\nLocal: Auditório do Condomínio Espiritual Uirapuru – Fortaleza \nA Literatura que encanta o público dos 8 aos 11 anos – Flávio Paiva faz palestra para educadoras da SEDUC e para representantes do Conselhos Regionais de Educação do Ceará (CREDE) e das secretarias municipais de educação\, que acompanham o Programa Alfabetização na Idade Certa (PAIC) nos municípios\, numa promoção do Eixo de Literatura Infantil e Formação do Leitor.
URL:https://www.flaviopaiva.com.br/agenda/secretaria-de-educacao-do-ceara/
END:VEVENT
BEGIN:VEVENT
DTSTART;TZID=America/Fortaleza:20110910T190000
DTEND;TZID=America/Fortaleza:20110910T210000
DTSTAMP:20260422T100051
CREATED:20170923T211333Z
LAST-MODIFIED:20170923T211333Z
UID:4861-1315681200-1315688400@www.flaviopaiva.com.br
SUMMARY:História Viva
DESCRIPTION:Hora: 19 horas\nLocal: Antiga estação de trem do Batalhão – Independência \nToinzinho e Socorro – uma intensa e fervorosa flor – Flávio Paiva lança livro de memórias em homenagem aos seus pais.
URL:https://www.flaviopaiva.com.br/agenda/historia-viva-2/
END:VEVENT
BEGIN:VEVENT
DTSTART;TZID=America/Fortaleza:20110827T110000
DTEND;TZID=America/Fortaleza:20110827T130000
DTSTAMP:20260422T100051
CREATED:20170923T211415Z
LAST-MODIFIED:20170923T211415Z
UID:4863-1314442800-1314450000@www.flaviopaiva.com.br
SUMMARY:Livraria da Vila
DESCRIPTION:Hora: 11 horas\nLocal: Rua Fradique Coutinho\, 915 – São Paulo \nSaci – 7 histórias 7 autores – Flávio Paiva participa do lançamento do livro\, ao lado dos parceiros Dilair Aguiar\, Marcia Camargos\, Paulo Pepe\, Rudá K. Andrade e Robson Moreira\, do ilustrador Baptistão e do organizador da publicação\, o jornalista Mouzar Benedito.
URL:https://www.flaviopaiva.com.br/agenda/livraria-da-vila/
END:VEVENT
BEGIN:VEVENT
DTSTART;TZID=America/Fortaleza:20110820T190000
DTEND;TZID=America/Fortaleza:20110820T210000
DTSTAMP:20260422T100051
CREATED:20170923T211503Z
LAST-MODIFIED:20170923T211503Z
UID:4865-1313866800-1313874000@www.flaviopaiva.com.br
SUMMARY:História Viva
DESCRIPTION:Hora: 19 horas\nLocal: Antiga estação de trem do Batalhão – Independência \n3º Prêmio Literário Flávio Paiva – Flávio Paiva participa da entrega da terceira edição do prêmio literário que leva o seu nome.
URL:https://www.flaviopaiva.com.br/agenda/historia-viva-3/
END:VEVENT
BEGIN:VEVENT
DTSTART;TZID=America/Fortaleza:20110816T101500
DTEND;TZID=America/Fortaleza:20110816T120000
DTSTAMP:20260422T100051
CREATED:20170923T211550Z
LAST-MODIFIED:20170923T211550Z
UID:4867-1313489700-1313496000@www.flaviopaiva.com.br
SUMMARY:Itaú Cultural
DESCRIPTION:Hora: 10h15min\nLocal: Av. Paulista\, 149 – São Paulo \nDiálogos sobre o Sonho Brasileiro – Flávio Paiva participa da mesa “Fusões Criativas”\, ao lado de Júlio César Oliveira (hip hop)\, Marcelo Noah (poeta e radialista) e Reinaldo Pamponet\, com mediação do consultor Luiz Algarra. O seminário visa ampliar o diálogo sobre os resultados do estudo Sonho Brasileiro\, realizado pela Box 1824\, com patrocínio do Banco Itaú.
URL:https://www.flaviopaiva.com.br/agenda/itau-cultural/
END:VEVENT
BEGIN:VEVENT
DTSTART;TZID=America/Fortaleza:20110531T140000
DTEND;TZID=America/Fortaleza:20110531T160000
DTSTAMP:20260422T100051
CREATED:20170923T211631Z
LAST-MODIFIED:20170923T211631Z
UID:4869-1306850400-1306857600@www.flaviopaiva.com.br
SUMMARY:Curso de Comunicação Social - UFC
DESCRIPTION:Hora: 14 horas\nLocal: Campus do Benfica \nConversa de Jornalista – Flávio Paiva grava entrevista para a disciplina de Laboratório de Jornalismo\, do professor Godofredo Pereira.
URL:https://www.flaviopaiva.com.br/agenda/curso-de-comunicacao-social-ufc/
END:VEVENT
BEGIN:VEVENT
DTSTART;TZID=America/Fortaleza:20110521T090000
DTEND;TZID=America/Fortaleza:20110521T110000
DTSTAMP:20260422T100051
CREATED:20170923T211706Z
LAST-MODIFIED:20170923T211706Z
UID:4871-1305968400-1305975600@www.flaviopaiva.com.br
SUMMARY:Debate: Centenário do Colégio Santa Cecília 
DESCRIPTION:Flávio Paiva ministrará a palestra “O planeta precisa de gentilezas”\, por ocasião da festa de 100 anos do Colégio Santa Cecília.\nData: 21 de maio de 2011 (sábado)\nHora: das 9:00 às 11:00\nLocal: Colégio Santa Cecília (Fortaleza)
URL:https://www.flaviopaiva.com.br/agenda/debate-centenario-do-colegio-santa-cecilia/
END:VEVENT
BEGIN:VEVENT
DTSTART;TZID=America/Fortaleza:20110418T190000
DTEND;TZID=America/Fortaleza:20110418T210000
DTSTAMP:20260422T100051
CREATED:20170923T211747Z
LAST-MODIFIED:20170923T211747Z
UID:4873-1303153200-1303160400@www.flaviopaiva.com.br
SUMMARY:Debate: "O Consumismo e a Publicidade na Infância" 
DESCRIPTION:Flávio Paiva participa do debate”O consumismo e a publicidade na infância”\,que ocorrerá após a exibição do filme “Criança\, a alma do negócio” (direção de Estela Renner e produção de Marcos Nisti). \nData: 18 de abril de 2011 (segunda-feira)\nHora: 19 horas \nLocal: Auditório da Livraria Cultura/Fortaleza(Esquina das avenidas Dom Luís com Virgílio Távora). \nO documentário “Criança\, a alma do negócio”(Maria Farinha) trata do quanto a manipulação por meio da publicidade pode interferir negativamente no comportamento e nos valores das crianças.
URL:https://www.flaviopaiva.com.br/agenda/debate-o-consumismo-e-publicidade-na-infancia/
END:VEVENT
BEGIN:VEVENT
DTSTART;TZID=America/Fortaleza:20110331T190000
DTEND;TZID=America/Fortaleza:20110331T210000
DTSTAMP:20260422T100051
CREATED:20170923T211841Z
LAST-MODIFIED:20170923T211841Z
UID:4875-1301598000-1301605200@www.flaviopaiva.com.br
SUMMARY:Flávio Paiva participa de debate sobre "A nova política do MinC e a relação do Ecad com os autores" 
DESCRIPTION:Realização: Rede Ceará de Música\nData: 31 de março de 2011\nHora: 19 horas\nLocal: Av. Sargento Hermínio\, 1500 – Monte Castelo – Estúdio Pedrada
URL:https://www.flaviopaiva.com.br/agenda/flavio-paiva-participa-de-debate-sobre-nova-politica-do-minc-e-relacao-do-ecad-com-os-autores/
END:VEVENT
BEGIN:VEVENT
DTSTART;TZID=America/Fortaleza:20110313T220000
DTEND;TZID=America/Fortaleza:20110313T230000
DTSTAMP:20260422T100051
CREATED:20170923T211923Z
LAST-MODIFIED:20170923T211923Z
UID:4877-1300053600-1300057200@www.flaviopaiva.com.br
SUMMARY:Musa Guedes entrevista Flávio Paiva no Programa "Contexto Geral" - TV União CE
DESCRIPTION:Data: domingo\, 13/03/2011\nHora: 22 horas\nReprise: segunda-feira\, dia 14/03/2011\, às 22horas.\nTV União Ceará\nCanal 17\nCanal 21 NET (cabo)\nHD 17.1 ou 18.1 \nA transmissão é feita também pelo site: www.redeuniao.com.br \nO programa entrevista\, durante 50 minutos\, personalidades do meio político\, empresarial\, econômico\, jurídico\, social\, cultural\, comunicação e esportivo do País. \nFlávio Paiva fala sobre o território conceitual do seu trabalho: “Cidadania Orgânica”\, “Jornalismo Expressionista” e “Infância” e responde a perguntas sobre diversos temas da atualidade.
URL:https://www.flaviopaiva.com.br/agenda/musa-guedes-entrevista-flavio-paiva-no-programa-contexto-geral-tv-uniao-ce/
END:VEVENT
BEGIN:VEVENT
DTSTART;TZID=America/Fortaleza:20101030T190000
DTEND;TZID=America/Fortaleza:20101030T203000
DTSTAMP:20260422T100051
CREATED:20170923T212120Z
LAST-MODIFIED:20170923T212120Z
UID:4879-1288465200-1288470600@www.flaviopaiva.com.br
SUMMARY:Palestra "O Saci e o folclore brasileiro "
DESCRIPTION:A Secult realiza hoje às 19 horas\, na Casa de Juvenal Galeno (Rua General Sampaio\, 1128 – Centro – Fortaleza-CE)\, um debate sobre “O Saci e o folclore brasileiro”\, dentro da sua programação comemorativa do Dia do Saci. Debatedores: Rudá K. Andrade (Diretor do documentário “Somos todos Sacys”) Lourdes Macena (Presidente da Comissão Nacional de Folclore) Guilherme Sampaio (Vereador\, autor da Lei do Dia do Saci em Fortaleza) Otávio Menezes (Coordenador do Departamento de Patrimônio Imaterial da Secult) Flávio Paiva (Autor do livro “A Festa do Saci” (Cortez Editora).
URL:https://www.flaviopaiva.com.br/agenda/palestra-o-saci-e-o-folclore-brasileiro/
END:VEVENT
BEGIN:VEVENT
DTSTART;TZID=America/Fortaleza:20100830T140000
DTEND;TZID=America/Fortaleza:20100830T160000
DTSTAMP:20260422T100051
CREATED:20170923T212201Z
LAST-MODIFIED:20170923T212201Z
UID:4881-1283176800-1283184000@www.flaviopaiva.com.br
SUMMARY:Palestra "a Criança nos planos de desenvolvimento do Estado "
DESCRIPTION:O Programa ” de Certificação dos Educadores Sociais\, a se realizar na Assembleia Legislativa do Estado do Ceará em Fortaleza. Durante o evento\, o jornalista e escritor Flávio Paiva fará palestra sobre “A criança nos planos de desenvolvimento do Estado”. \nLocal: Assembleia Legislativa – Plenário 13 de maio\nHora: 14h
URL:https://www.flaviopaiva.com.br/agenda/palestra-crianca-nos-planos-de-desenvolvimento-do-estado/
END:VEVENT
BEGIN:VEVENT
DTSTART;TZID=America/Fortaleza:20100730T140000
DTEND;TZID=America/Fortaleza:20100730T160000
DTSTAMP:20260422T100051
CREATED:20170923T212408Z
LAST-MODIFIED:20170923T212408Z
UID:4883-1280498400-1280505600@www.flaviopaiva.com.br
SUMMARY:Palestra "O universo Lúdico na Infância"
DESCRIPTION:Palestra de Flávio Paiva nas comemorações da Biblioteca Pública Estadual Menezes Pimentel em homenagem ao Dia do Escritor. \nLocal: Biblioteca Pública Estadual Menezes Pimentel\nHora: 14h
URL:https://www.flaviopaiva.com.br/agenda/palestra-o-universo-ludico-na-infancia/
END:VEVENT
BEGIN:VEVENT
DTSTART;VALUE=DATE:20100424
DTEND;VALUE=DATE:20100425
DTSTAMP:20260422T100051
CREATED:20170923T212717Z
LAST-MODIFIED:20170923T212717Z
UID:4892-1272067200-1272153599@www.flaviopaiva.com.br
SUMMARY:I Encontro sobre Cultura Popular e Incentivo à Leitura 
DESCRIPTION:Flávio Paiva será a atração do I Encontro sobre Cultura Popular e Incentivo à Leitura\, organizado pela ONG História Viva\, em Independência. O objetivo do encontro\, no dia 24\, é resgatar a cultura popular cearense.
URL:https://www.flaviopaiva.com.br/agenda/i-encontro-sobre-cultura-popular-e-incentivo-leitura/
END:VEVENT
BEGIN:VEVENT
DTSTART;TZID=America/Fortaleza:20100417T110000
DTEND;TZID=America/Fortaleza:20100417T123000
DTSTAMP:20260422T100051
CREATED:20170923T212630Z
LAST-MODIFIED:20170923T212630Z
UID:4890-1271502000-1271507400@www.flaviopaiva.com.br
SUMMARY:Palestra na Bienal do Livro 
DESCRIPTION:Dia 17 de abril (sábado)\, às 11 horas Flávio Paiva faz palestra “O exercício da leitura como cidadania” para 350 Agentes de Leitura do Ceará\, dentro da programação da Bienal do Livro\, no Centro de Convenções.
URL:https://www.flaviopaiva.com.br/agenda/palestra-na-bienal-do-livro/
END:VEVENT
END:VCALENDAR